BEGIN:VCALENDAR
VERSION:2.0
PRODID:-//hacksw/handcal//NONSGML v1.0//EN
BEGIN:VEVENT
DTSTAMP:20191111T203000Z
DTSTART:20191111T203000Z
DTEND:20191111T203000Z
SUMMARY:EAK-Empfang auf der EKD-Herbstsynode in Dresden (Maritim-Hotel)
END:VEVENT
END:VCALENDAR
