BEGIN:VCALENDAR
VERSION:2.0
PRODID:-//hacksw/handcal//NONSGML v1.0//EN
BEGIN:VEVENT
DTSTAMP:20221107T150000Z
DTSTART:20221107T150000Z
DTEND:20221107T180000Z
SUMMARY:EAK-Bundesvorstandssitzung in Magdeburg anlässlich der EKD-Herbstsynode (intern)
END:VEVENT
END:VCALENDAR
