BEGIN:VCALENDAR
VERSION:2.0
PRODID:-//hacksw/handcal//NONSGML v1.0//EN
BEGIN:VEVENT
DTSTAMP:20230223T140000Z
DTSTART:20230223T140000Z
DTEND:20230223T170000Z
SUMMARY:EAK-Bundesvorstandssitzung (intern)
END:VEVENT
END:VCALENDAR
