BEGIN:VCALENDAR
VERSION:2.0
PRODID:-//hacksw/handcal//NONSGML v1.0//EN
BEGIN:VEVENT
DTSTAMP:20241007T130000Z
DTSTART:20241007T130000Z
DTEND:20241007T160000Z
LOCATION:Konrad-Adenauer-Haus, Klingelhöferstr. 8, Berlin, 10785, Deutschland
SUMMARY:Sitzung des EAK-Bundesvorstandes (intern)
END:VEVENT
END:VCALENDAR
